BEGIN:VCALENDAR
VERSION:2.0
PRODID:-//FDP//NONSGML Website//DE
BEGIN:VEVENT
UID:19cded56b3d71aaaf026b1ae870b3cbcfdp
DTSTAMP:20261125T190000Z
DTSTART;TZID=Europe/Berlin:20261125T190000
DTEND;TZID=Europe/Berlin:20261125T200000
SUMMARY:oeffentlicher-stammtisch
DESCRIPTION:Liebe Bürgerinnen und Bürger, wir laden Sie herzlich ein zu unserem „Öffentlichen Stammtisch“ am letzten Mittwoch im Monat für Mittwoch, 25.11.2026, ab 19:00 Uhr in den Ratskeller nach Neumorschen und freuen uns auf einen Gedankenaustausch [&hellip;]
LOCATION:Ratskeller Neumorschen\, Marktstraße 32\, 34326 Morschen
END:VEVENT
END:VCALENDAR