BEGIN:VCALENDAR
VERSION:2.0
PRODID:-//FDP//NONSGML Website//DE
BEGIN:VEVENT
UID:6cda75ffe3c03ba38b21db524d86b0d4fdp
DTSTAMP:20261028T190000Z
DTSTART;TZID=Europe/Berlin:20261028T190000
DTEND;TZID=Europe/Berlin:20261028T200000
SUMMARY:oeffentlicher-stammtisch
DESCRIPTION:Liebe Bürgerinnen und Bürger, wir laden Sie herzlich ein zu unserem „Öffentlichen Stammtisch“ am letzten Mittwoch im Monat für Mittwoch, 28.10.2026, ab 19:00 Uhr in den Ratskeller nach Neumorschen und freuen uns auf einen Gedankenaustausch [&hellip;]
LOCATION:Ratskeller Neumorschen\, Marktstraße 32\, 34326 Morschen
END:VEVENT
END:VCALENDAR